BEGIN:VCALENDAR
VERSION:2.0
PRODID:-//NSU Child and Family Network - ECPv6.15.20//NONSGML v1.0//EN
CALSCALE:GREGORIAN
METHOD:PUBLISH
X-WR-CALNAME:NSU Child and Family Network
X-ORIGINAL-URL:http://cfn.nsula.edu
X-WR-CALDESC:Events for NSU Child and Family Network
REFRESH-INTERVAL;VALUE=DURATION:PT1H
X-Robots-Tag:noindex
X-PUBLISHED-TTL:PT1H
BEGIN:VTIMEZONE
TZID:UTC
BEGIN:STANDARD
TZOFFSETFROM:+0000
TZOFFSETTO:+0000
TZNAME:UTC
DTSTART:20200101T000000
END:STANDARD
END:VTIMEZONE
BEGIN:VEVENT
DTSTART;TZID=UTC:20211118T180000
DTEND;TZID=UTC:20211118T210000
DTSTAMP:20260425T225408
CREATED:20211109T150227Z
LAST-MODIFIED:20211113T110232Z
UID:8711-1637258400-1637269200@cfn.nsula.edu
SUMMARY:I-1b *HEALTH: Maintaining a Healthy Learning Environment (CDA 1)    6:00 PM - 9:00 PM
DESCRIPTION:Review healthy classroom practices and learn about infection control to address and control illness. \nTrainer: Jean Humphrey                                    To register\, click here: https://bit.ly/3Ci1VHf
URL:http://cfn.nsula.edu/event/i-1b-health-maintaining-a-healthy-learning-environment-cda-1/
LOCATION:NSU Webinar\, 1800 Warrington Place\, Shreveport\, LA\, 71101\, United States
ATTACH;FMTTYPE=image/jpeg:http://cfn.nsula.edu/wp-content/uploads/2021/11/I-1b.jpg
END:VEVENT
BEGIN:VEVENT
DTSTART;TZID=UTC:20211118T180000
DTEND;TZID=UTC:20211118T210000
DTSTAMP:20260425T225408
CREATED:20211109T150324Z
LAST-MODIFIED:20211113T074959Z
UID:8713-1637258400-1637269200@cfn.nsula.edu
SUMMARY:I-2b The Magic of Music (CDA 2)   6:00 pm – 9:00 pm
DESCRIPTION:Learn music activities to enhance your curriculum and encourage development by making simple musical instruments. Come ready to shake\, rattle and roll! \nTrainer: Jordan Wilson                            To register\, click here: https://bit.ly/3bfj9sK
URL:http://cfn.nsula.edu/event/i-2b-the-magic-of-music-cda-2/
LOCATION:NSU Webinar\, 1800 Warrington Place\, Shreveport\, LA\, 71101\, United States
ATTACH;FMTTYPE=image/jpeg:http://cfn.nsula.edu/wp-content/uploads/2021/11/I-2b.jpg
END:VEVENT
BEGIN:VEVENT
DTSTART;TZID=UTC:20211118T180000
DTEND;TZID=UTC:20211118T210000
DTSTAMP:20260425T225408
CREATED:20211109T152609Z
LAST-MODIFIED:20211113T105401Z
UID:8731-1637258400-1637269200@cfn.nsula.edu
SUMMARY:B-3a Top 10 Ways to Support Social & Emotional Development (CDA 3)    6:00 pm – 9:00 pm
DESCRIPTION:Discuss how to foster children’s social/emotional development\, self-esteem\, and independence to create a cooperative learning environment. November Training Schedule for Type I & II Centers Just $10 per person. For payments by credit or debit card\, click here: https://bit.ly/3liH3Xs \nTrainer: Heather Davis                                To register\, click here: https://bit.ly/3EekrAS
URL:http://cfn.nsula.edu/event/b-3a-top-10-ways-to-support-social-emotional-development-cda-3/
LOCATION:NSU Webinar\, 1800 Warrington Place\, Shreveport\, LA\, 71101\, United States
ATTACH;FMTTYPE=image/png:http://cfn.nsula.edu/wp-content/uploads/2021/11/B-3a-web-e1636767702301.png
END:VEVENT
END:VCALENDAR