BEGIN:VCALENDAR
VERSION:2.0
PRODID:-//NSU Child and Family Network - ECPv6.15.20//NONSGML v1.0//EN
CALSCALE:GREGORIAN
METHOD:PUBLISH
X-ORIGINAL-URL:http://cfn.nsula.edu
X-WR-CALDESC:Events for NSU Child and Family Network
REFRESH-INTERVAL;VALUE=DURATION:PT1H
X-Robots-Tag:noindex
X-PUBLISHED-TTL:PT1H
BEGIN:VTIMEZONE
TZID:UTC
BEGIN:STANDARD
TZOFFSETFROM:+0000
TZOFFSETTO:+0000
TZNAME:UTC
DTSTART:20200101T000000
END:STANDARD
END:VTIMEZONE
BEGIN:VEVENT
DTSTART;TZID=UTC:20211115T110000
DTEND;TZID=UTC:20211115T140000
DTSTAMP:20260425T225519
CREATED:20211109T152235Z
LAST-MODIFIED:20211113T105755Z
UID:8725-1636974000-1636984800@cfn.nsula.edu
SUMMARY:E-6f Directors’ Training: Human Resources 101: The Do’s and Don’ts (CDA-6) (ADM 3)   11:00 am – 2:00 pm
DESCRIPTION:Move beyond a “quick fix” notion of staff development and stop the “them versus us” atmosphere. Diagnose common organizational problems and select appropriate strategies for implementing change and evaluating progress. \nFacilitator: Mary Webber                      To register\, click here: https://bit.ly/3CI8e7i
URL:http://cfn.nsula.edu/event/e-6f-directors-training-human-resources-101-the-dos-and-donts-cda-6-adm-3/
LOCATION:NSU Webinar\, 1800 Warrington Place\, Shreveport\, LA\, 71101\, United States
ATTACH;FMTTYPE=image/jpeg:http://cfn.nsula.edu/wp-content/uploads/2021/11/E-6f.jpg
END:VEVENT
BEGIN:VEVENT
DTSTART;TZID=UTC:20211115T180000
DTEND;TZID=UTC:20211115T210000
DTSTAMP:20260425T225519
CREATED:20211109T153205Z
LAST-MODIFIED:20211113T104950Z
UID:8736-1636999200-1637010000@cfn.nsula.edu
SUMMARY:CPR/First Aid in Natchitoches    6:00 PM - 9:00 PM
DESCRIPTION:CPR/First Aid is free to Type III Centers and registered Family Home Providers only! Classes will be held in person with a mask mandate at *NSU Teacher Education Center (TEC)\, Room 104C\, Natchitoches\,  Register online but attend in person\nSubject to availability – $100 per person for Type I & II centers. For payment by credit or debit card: click here: https://bit.ly/3liH3Xs \nTrainer: Kenneth Wilcher                           To register\, click here:https://bit.ly/3mycfoT
URL:http://cfn.nsula.edu/event/free-cpr-first-aid/
LOCATION:NSU Teacher Education Center (TEC) Room 105C\, Sam Sibley Road\, Natchitoches\, LA\, 71457
ATTACH;FMTTYPE=image/jpeg:http://cfn.nsula.edu/wp-content/uploads/2021/11/CPR-IN-NATCHIT-e1636754622230.jpg
END:VEVENT
BEGIN:VEVENT
DTSTART;TZID=UTC:20211115T183000
DTEND;TZID=UTC:20211115T203000
DTSTAMP:20260425T225519
CREATED:20211109T144620Z
LAST-MODIFIED:20211113T025209Z
UID:8693-1637001000-1637008200@cfn.nsula.edu
SUMMARY:B-3c Creating Special Moments with Infants and Toddlers (CDA 3)
DESCRIPTION:This session will help you discover how to create special moments with infants and toddlers every day.  Learn how to turn diaper changing and other routine tasks into special moments. \nTrainer: Amanda Sloan                      To register\, click here: https://bit.ly/3BltOwG  
URL:http://cfn.nsula.edu/event/b-3c-creating-special-moments-with-infants-and-toddlers-cda-3/
LOCATION:NSU Webinar\, 1800 Warrington Place\, Shreveport\, LA\, 71101\, United States
END:VEVENT
BEGIN:VEVENT
DTSTART;TZID=UTC:20211115T183000
DTEND;TZID=UTC:20211115T203000
DTSTAMP:20260425T225519
CREATED:20211109T144751Z
LAST-MODIFIED:20211113T031947Z
UID:8695-1637001000-1637008200@cfn.nsula.edu
SUMMARY:E-2i Making and Tinkering with STEM (CDA 2)
DESCRIPTION:Trainer: Beonica Frazier                                  To register\, click here: https://bit.ly/3vMrJZr 
URL:http://cfn.nsula.edu/event/e-2i-making-and-tinkering-with-stem-cda-2/
LOCATION:NSU Webinar\, 1800 Warrington Place\, Shreveport\, LA\, 71101\, United States
END:VEVENT
BEGIN:VEVENT
DTSTART;TZID=UTC:20211115T183000
DTEND;TZID=UTC:20211115T203000
DTSTAMP:20260425T225519
CREATED:20211109T144834Z
LAST-MODIFIED:20211113T033148Z
UID:8697-1637001000-1637008200@cfn.nsula.edu
SUMMARY:E-3g I Want\, I Want\, I Want (CDA 2)
DESCRIPTION:Look at how advertising captures children and what advertisers don’t want you to know.  Learn the effects of marketing on children. \nTrainer: Heather Davis                              To register\, click here: https://bit.ly/3pFYqaa
URL:http://cfn.nsula.edu/event/e-3g-i-want-i-want-i-want-cda-2/
LOCATION:NSU Webinar\, 1800 Warrington Place\, Shreveport\, LA\, 71101\, United States
ATTACH;FMTTYPE=image/jpeg:http://cfn.nsula.edu/wp-content/uploads/2021/11/E-3g-e1636773932902.jpg
END:VEVENT
BEGIN:VEVENT
DTSTART;TZID=UTC:20211115T183000
DTEND;TZID=UTC:20211115T203000
DTSTAMP:20260425T225519
CREATED:20211109T145458Z
LAST-MODIFIED:20211113T114800Z
UID:8701-1637001000-1637008200@cfn.nsula.edu
SUMMARY:K-2c Engaged Support (CDA 2)    6:00 pm – 9:00 pm
DESCRIPTION:Trainer: Jordan Wilson                                      To register\, click here:https://bit.ly/3EhQCiL
URL:http://cfn.nsula.edu/event/k-2c-engaged-support-cda-2/
LOCATION:NSU Webinar\, 1800 Warrington Place\, Shreveport\, LA\, 71101\, United States
ATTACH;FMTTYPE=image/jpeg:http://cfn.nsula.edu/wp-content/uploads/2021/11/K-2c-1.jpg
END:VEVENT
END:VCALENDAR